BEGIN:VCALENDAR
PRODID:-//AT Content Types//AT Event//EN
VERSION:2.0
METHOD:PUBLISH
BEGIN:VEVENT
DTSTAMP:20260423T112357Z
CREATED:20190111T165831Z
UID:ATEvent-b3130fb948b01512dcab89c012d08727
LAST-MODIFIED:20190220T110935Z
SUMMARY:Wigan - St John’s Church Lounge
DTSTART:20190205T160000Z
DTEND:20190205T193000Z
DESCRIPTION:Local drop in event to discuss the Wigan specific areas of
  the GMSF.
CLASS:PUBLIC
END:VEVENT
END:VCALENDAR
