BEGIN:VCALENDAR
PRODID:-//AT Content Types//AT Event//EN
VERSION:2.0
METHOD:PUBLISH
BEGIN:VEVENT
DTSTAMP:20260423T112404Z
CREATED:20190111T165832Z
UID:ATEvent-1a0152f327a4940fcb4bfe3b77227365
LAST-MODIFIED:20190220T110934Z
SUMMARY:Wigan - Wigan Town Hall
DTSTART:20190226T160000Z
DTEND:20190226T190000Z
DESCRIPTION:Local drop in event to discuss the Wigan specific areas of
  the GMSF.
CLASS:PUBLIC
END:VEVENT
END:VCALENDAR
