BEGIN:VCALENDAR
PRODID:-//AT Content Types//AT Event//EN
VERSION:2.0
METHOD:PUBLISH
BEGIN:VEVENT
DTSTAMP:20260424T195911Z
CREATED:20230221T133859Z
UID:ATEvent-416786355e0e4227bbc36e995157188c
LAST-MODIFIED:20230223T171349Z
SUMMARY:Drop in session
DTSTART:20230306T163000Z
DTEND:20230306T190000Z
DESCRIPTION:Attend a drop-in session to view our plans and learn more 
 about the proposal in person.\n\nLocation: Blackley Community Fire Sta
 tion\, Rochdale Road\, Blackley\, Manchester\, M9 7EQ
CLASS:PUBLIC
END:VEVENT
END:VCALENDAR
