BEGIN:VCALENDAR
PRODID:-//AT Content Types//AT Event//EN
VERSION:2.0
METHOD:PUBLISH
BEGIN:VEVENT
DTSTAMP:20260424T183754Z
CREATED:20230503T130630Z
UID:ATEvent-ece8ecef098340acaaf64c72bebb36b4
LAST-MODIFIED:20230523T092151Z
SUMMARY:Drop in session
DTSTART:20230613T153000Z
DTEND:20230613T180000Z
DESCRIPTION:Attend a drop-in session to view our plans and learn more 
 about the proposal in person. \n\nLocation: Stockport Community Fire S
 tation\nKing Street West\nStockport\nGreater Manchester\nSK3 0DT
CLASS:PUBLIC
END:VEVENT
END:VCALENDAR
