BEGIN:VCALENDAR
PRODID:-//AT Content Types//AT Event//EN
VERSION:2.0
METHOD:PUBLISH
BEGIN:VEVENT
DTSTAMP:20260424T195911Z
CREATED:20230221T133239Z
UID:ATEvent-47022f89975341eebcc194f6b596366a
LAST-MODIFIED:20230223T171219Z
SUMMARY:Drop in session
DTSTART:20230308T163000Z
DTEND:20230308T190000Z
DESCRIPTION:Attend a drop-in session to view our plans and learn more 
 about the proposal in person. \n\nLocation: Whitefield Community Fire 
 Station\, Bury New Road\, Whitefield\, M45 7SY
CLASS:PUBLIC
END:VEVENT
END:VCALENDAR
